BEGIN:VCALENDAR
VERSION:2.0
PRODID:-//PNR - ECPv6.15.18//NONSGML v1.0//EN
CALSCALE:GREGORIAN
METHOD:PUBLISH
X-WR-CALNAME:PNR
X-ORIGINAL-URL:https://www.parc-pyrenees-ariegeoises.fr
X-WR-CALDESC:Évènements pour PNR
REFRESH-INTERVAL;VALUE=DURATION:PT1H
X-Robots-Tag:noindex
X-PUBLISHED-TTL:PT1H
BEGIN:VTIMEZONE
TZID:Europe/Paris
BEGIN:DAYLIGHT
TZOFFSETFROM:+0100
TZOFFSETTO:+0200
TZNAME:CEST
DTSTART:20250330T010000
END:DAYLIGHT
BEGIN:STANDARD
TZOFFSETFROM:+0200
TZOFFSETTO:+0100
TZNAME:CET
DTSTART:20251026T010000
END:STANDARD
BEGIN:DAYLIGHT
TZOFFSETFROM:+0100
TZOFFSETTO:+0200
TZNAME:CEST
DTSTART:20260329T010000
END:DAYLIGHT
BEGIN:STANDARD
TZOFFSETFROM:+0200
TZOFFSETTO:+0100
TZNAME:CET
DTSTART:20261025T010000
END:STANDARD
BEGIN:DAYLIGHT
TZOFFSETFROM:+0100
TZOFFSETTO:+0200
TZNAME:CEST
DTSTART:20270328T010000
END:DAYLIGHT
BEGIN:STANDARD
TZOFFSETFROM:+0200
TZOFFSETTO:+0100
TZNAME:CET
DTSTART:20271031T010000
END:STANDARD
END:VTIMEZONE
BEGIN:VEVENT
DTSTART;TZID=Europe/Paris:20260508T100000
DTEND;TZID=Europe/Paris:20260510T170000
DTSTAMP:20260420T162711
CREATED:20260414T113915Z
LAST-MODIFIED:20260414T113915Z
UID:23258-1778234400-1778432400@www.parc-pyrenees-ariegeoises.fr
SUMMARY:Foire agricole d’Ordino
DESCRIPTION:Par le Parc naturel de la Vallée de Sorteny \nDécouvrez Ordino et le Parc naturel de la Vallée de Sorteny\, en Andorre\, à l’occasion de la foire agricole qui dure trois jours. \n05 61 02 71 69 – info@parc-pyrenees-ariegeoises.fr \nGratuit \n 
URL:https://www.parc-pyrenees-ariegeoises.fr/event/foire-agricole-dordino-5/
LOCATION:Ordino\, Ordino\, AD3000\, Andorra
CATEGORIES:marché
ATTACH;FMTTYPE=image/jpeg:https://www.parc-pyrenees-ariegeoises.fr/wp-content/uploads/2026/04/20260508-Foire-agricole-Ordino.jpg
END:VEVENT
BEGIN:VEVENT
DTSTART;TZID=Europe/Paris:20260508T100000
DTEND;TZID=Europe/Paris:20260510T170000
DTSTAMP:20260420T162711
CREATED:20260414T114225Z
LAST-MODIFIED:20260414T114347Z
UID:23261-1778234400-1778432400@www.parc-pyrenees-ariegeoises.fr
SUMMARY:Grande foire de printemps
DESCRIPTION:Vitrine de l’artisanat local et de l’élevage de montagne\, la foire réunit les acteurs économiques de la vallée ! \nDe nombreuses animations pour toute la famille. \n05 34 09 88 88 – www.mairie-tarascon.com \nGratuit
URL:https://www.parc-pyrenees-ariegeoises.fr/event/grande-foire-de-printemps-3/
LOCATION:Tarascon sur Ariège\, 09400\, France
CATEGORIES:marché
ATTACH;FMTTYPE=image/jpeg:https://www.parc-pyrenees-ariegeoises.fr/wp-content/uploads/2023/04/mai-foire-tarascon-scaled.jpg
ORGANIZER;CN="Mairie de Tarascon sur ari%C3%A8ge":MAILTO:mairie@mairie-tarascon.com
END:VEVENT
BEGIN:VEVENT
DTSTART;TZID=Europe/Paris:20260520T133000
DTEND;TZID=Europe/Paris:20260520T133000
DTSTAMP:20260420T162711
CREATED:20260415T081652Z
LAST-MODIFIED:20260415T082336Z
UID:23318-1779283800-1779283800@www.parc-pyrenees-ariegeoises.fr
SUMMARY:Sortie pistage
DESCRIPTION:Au cours de ces sorties\, il vous faudra chercher\, déterminer\, interpréter des traces et empreintes… \nEt mettre vos talents d’observateurs à l’épreuve. \nSur réservation :  05 61 66 47 98  / info@paysdestraces.fr \nAdulte : 35€ et Enfant de 6 à 12  ans : 30€ \n 
URL:https://www.parc-pyrenees-ariegeoises.fr/event/sortie-pistage/
LOCATION:pays des traces\, 8 Rte de Miguet\, Saint Lizier\, 09100\, France
CATEGORIES:montagne,nature,randonnées
ATTACH;FMTTYPE=image/webp:https://www.parc-pyrenees-ariegeoises.fr/wp-content/uploads/2026/04/20260520-Sortie-pistage-@loeil-aux-aguets.webp
ORGANIZER;CN="Pays des traces":MAILTO:info@paysdestraces.fr
END:VEVENT
BEGIN:VEVENT
DTSTART;TZID=Europe/Paris:20260523T203000
DTEND;TZID=Europe/Paris:20260523T203000
DTSTAMP:20260420T162711
CREATED:20260415T082732Z
LAST-MODIFIED:20260415T082732Z
UID:23328-1779568200-1779568200@www.parc-pyrenees-ariegeoises.fr
SUMMARY:Soirées publiques d’observation
DESCRIPTION:Objectif de la soirée : observer le ciel à l’œil nu et avec instruments. \nSi le ciel est couvert ce soir-là\, des présentations animées sont prévues dans l’Observatoire et la soirée est toujours assurée. \nSur réservation : 06 22 17 04 98 / contact@observatoire-sabarat.com \nPayant 9€ (+ de 18 ans)\, 6€ (6-17 ans)\, gratuit (moins de 6 ans) \nAutres dates prévues : 6 juin (20h30) et 3 juillet
URL:https://www.parc-pyrenees-ariegeoises.fr/event/soirees-publiques-dobservation-2/
LOCATION:Sabarat\, Sabarat\, Ariège\, 09350\, France
CATEGORIES:nature
ATTACH;FMTTYPE=image/jpeg:https://www.parc-pyrenees-ariegeoises.fr/wp-content/uploads/2026/04/20260425-Soirees-publiques-dobservation-@Pyrawneens.jpg
ORGANIZER;CN="Observatoire astronomique de Sabarat":MAILTO:contact@observatoire-sabarat.com
END:VEVENT
BEGIN:VEVENT
DTSTART;TZID=Europe/Paris:20260524T090000
DTEND;TZID=Europe/Paris:20260524T090000
DTSTAMP:20260420T162711
CREATED:20260415T083937Z
LAST-MODIFIED:20260415T083937Z
UID:23333-1779613200-1779613200@www.parc-pyrenees-ariegeoises.fr
SUMMARY:Observation des Bouquetins
DESCRIPTION:Randonnée d’observation pour mieux comprendre le bouquetin\, son mode de vie et son habitat naturel. \nAccompagné d’un professionnel et d’outils pédagogiques\, partez à la rencontre d’une espèce emblématique des Pyrénées ariégeoises. \nRéservation : dahu-ariegeois@orange.fr  \nAutres dates prévues : 26 juillet et 15 août
URL:https://www.parc-pyrenees-ariegeoises.fr/event/observation-des-bouquetins-5/
LOCATION:Station de Guzet\, Ustou\, 09140\, France
CATEGORIES:montagne,nature,randonnées
ATTACH;FMTTYPE=image/jpeg:https://www.parc-pyrenees-ariegeoises.fr/wp-content/uploads/2026/04/20260524-Observation-des-bouquetins-@Dugu-Ariegeois.jpg
ORGANIZER;CN="Dahu ari%C3%A9geois":MAILTO:contact@dahu-ariegeois.fr
END:VEVENT
BEGIN:VEVENT
DTSTART;TZID=Europe/Paris:20260524T100000
DTEND;TZID=Europe/Paris:20260524T100000
DTSTAMP:20260420T162711
CREATED:20260415T083301Z
LAST-MODIFIED:20260415T083301Z
UID:23330-1779616800-1779616800@www.parc-pyrenees-ariegeoises.fr
SUMMARY:FOIRE D'ARROS DE CARDOS
DESCRIPTION:Découvrez le Parc de l’Alt Pirineu en Catalogne\, à l’occasion de la grande foire autour de l’élevage ovin\, avec marché de produits locaux\, démonstration de savoir-faire\, animations\, musique\, banquet populaire… \ninfos : 05 61 02 71 69 – info@parc-pyrenees-ariegeoises.fr \nGratuit
URL:https://www.parc-pyrenees-ariegeoises.fr/event/foire-darros-de-cardos-3/
LOCATION:Arros de Cardos\, Arros de Cardos\, Cataluna\, 25571\, Espagne
CATEGORIES:transfrontalier
ATTACH;FMTTYPE=image/jpeg:https://www.parc-pyrenees-ariegeoises.fr/wp-content/uploads/2024/04/05-26-Foire-d_Arros-de-Cardos.jpg
ORGANIZER;CN="Parc de l'Alt Pirineu":MAILTO:pnaltpirineu@gencat.cat
END:VEVENT
BEGIN:VEVENT
DTSTART;TZID=Europe/Paris:20260530T140000
DTEND;TZID=Europe/Paris:20260530T140000
DTSTAMP:20260420T162711
CREATED:20260415T095219Z
LAST-MODIFIED:20260415T095219Z
UID:23353-1780149600-1780149600@www.parc-pyrenees-ariegeoises.fr
SUMMARY:Tiques qui piquent
DESCRIPTION:Découvrir la biologie des tiques\, les gestes préventifs pour réduire les risques de piqûres ainsi que CiTIQUE\, une science participative qui permet l’amélioration de la connaissance scientifique. \nSur réservation  : 06 21 41 23 96 / jocelyn.b@ariegenature.fr \nGratuit \n 
URL:https://www.parc-pyrenees-ariegeoises.fr/event/tiques-qui-piquent-2/
LOCATION:Foix\, Allées de Villottes\, Foix\, 09000\, France
CATEGORIES:atelier - conférence,nature
ATTACH;FMTTYPE=image/jpeg:https://www.parc-pyrenees-ariegeoises.fr/wp-content/uploads/2025/05/tique.jpg
ORGANIZER;CN="ANA- CEN":MAILTO:ana@ariegenature.fr
END:VEVENT
END:VCALENDAR