BEGIN:VCALENDAR
VERSION:2.0
PRODID:-//PNR - ECPv6.15.18//NONSGML v1.0//EN
CALSCALE:GREGORIAN
METHOD:PUBLISH
X-ORIGINAL-URL:https://www.parc-pyrenees-ariegeoises.fr
X-WR-CALDESC:Évènements pour PNR
REFRESH-INTERVAL;VALUE=DURATION:PT1H
X-Robots-Tag:noindex
X-PUBLISHED-TTL:PT1H
BEGIN:VTIMEZONE
TZID:Europe/Paris
BEGIN:DAYLIGHT
TZOFFSETFROM:+0100
TZOFFSETTO:+0200
TZNAME:CEST
DTSTART:20250330T010000
END:DAYLIGHT
BEGIN:STANDARD
TZOFFSETFROM:+0200
TZOFFSETTO:+0100
TZNAME:CET
DTSTART:20251026T010000
END:STANDARD
BEGIN:DAYLIGHT
TZOFFSETFROM:+0100
TZOFFSETTO:+0200
TZNAME:CEST
DTSTART:20260329T010000
END:DAYLIGHT
BEGIN:STANDARD
TZOFFSETFROM:+0200
TZOFFSETTO:+0100
TZNAME:CET
DTSTART:20261025T010000
END:STANDARD
BEGIN:DAYLIGHT
TZOFFSETFROM:+0100
TZOFFSETTO:+0200
TZNAME:CEST
DTSTART:20270328T010000
END:DAYLIGHT
BEGIN:STANDARD
TZOFFSETFROM:+0200
TZOFFSETTO:+0100
TZNAME:CET
DTSTART:20271031T010000
END:STANDARD
END:VTIMEZONE
BEGIN:VEVENT
DTSTART;TZID=Europe/Paris:20260520T133000
DTEND;TZID=Europe/Paris:20260520T133000
DTSTAMP:20260420T174912
CREATED:20260415T081652Z
LAST-MODIFIED:20260415T082336Z
UID:23318-1779283800-1779283800@www.parc-pyrenees-ariegeoises.fr
SUMMARY:Sortie pistage
DESCRIPTION:Au cours de ces sorties\, il vous faudra chercher\, déterminer\, interpréter des traces et empreintes… \nEt mettre vos talents d’observateurs à l’épreuve. \nSur réservation :  05 61 66 47 98  / info@paysdestraces.fr \nAdulte : 35€ et Enfant de 6 à 12  ans : 30€ \n 
URL:https://www.parc-pyrenees-ariegeoises.fr/event/sortie-pistage/
LOCATION:pays des traces\, 8 Rte de Miguet\, Saint Lizier\, 09100\, France
CATEGORIES:montagne,nature,randonnées
ATTACH;FMTTYPE=image/webp:https://www.parc-pyrenees-ariegeoises.fr/wp-content/uploads/2026/04/20260520-Sortie-pistage-@loeil-aux-aguets.webp
ORGANIZER;CN="Pays des traces":MAILTO:info@paysdestraces.fr
END:VEVENT
END:VCALENDAR