BEGIN:VCALENDAR
VERSION:2.0
PRODID:-//PNR - ECPv6.15.18//NONSGML v1.0//EN
CALSCALE:GREGORIAN
METHOD:PUBLISH
X-WR-CALNAME:PNR
X-ORIGINAL-URL:https://www.parc-pyrenees-ariegeoises.fr
X-WR-CALDESC:Évènements pour PNR
REFRESH-INTERVAL;VALUE=DURATION:PT1H
X-Robots-Tag:noindex
X-PUBLISHED-TTL:PT1H
BEGIN:VTIMEZONE
TZID:Europe/Paris
BEGIN:DAYLIGHT
TZOFFSETFROM:+0100
TZOFFSETTO:+0200
TZNAME:CEST
DTSTART:20250330T010000
END:DAYLIGHT
BEGIN:STANDARD
TZOFFSETFROM:+0200
TZOFFSETTO:+0100
TZNAME:CET
DTSTART:20251026T010000
END:STANDARD
BEGIN:DAYLIGHT
TZOFFSETFROM:+0100
TZOFFSETTO:+0200
TZNAME:CEST
DTSTART:20260329T010000
END:DAYLIGHT
BEGIN:STANDARD
TZOFFSETFROM:+0200
TZOFFSETTO:+0100
TZNAME:CET
DTSTART:20261025T010000
END:STANDARD
BEGIN:DAYLIGHT
TZOFFSETFROM:+0100
TZOFFSETTO:+0200
TZNAME:CEST
DTSTART:20270328T010000
END:DAYLIGHT
BEGIN:STANDARD
TZOFFSETFROM:+0200
TZOFFSETTO:+0100
TZNAME:CET
DTSTART:20271031T010000
END:STANDARD
END:VTIMEZONE
BEGIN:VEVENT
DTSTART;TZID=Europe/Paris:20260607T083000
DTEND;TZID=Europe/Paris:20260607T083000
DTSTAMP:20260425T142000
CREATED:20260422T134808Z
LAST-MODIFIED:20260422T134808Z
UID:23402-1780821000-1780821000@www.parc-pyrenees-ariegeoises.fr
SUMMARY:Les cols de l'Espoir
DESCRIPTION:Rdv au Café de l’étang de Lers  \nUne randonnée historique guidée sur les chemins de la liberté en Ariège. \nPour découvrir les passages empruntés pendant la Seconde Guerre mondiale par les hommes et les femmes ayant franchi la montagne vers l’Espagne. \nSur réservation dahu-ariegeois@orange.fr  \n 
URL:https://www.parc-pyrenees-ariegeoises.fr/event/les-cols-de-lespoir-2/
LOCATION:Etang de Lers\, Massat\, Ariège\, 09320\, France
CATEGORIES:culturel,montagne,nature,randonnées
ATTACH;FMTTYPE=image/jpeg:https://www.parc-pyrenees-ariegeoises.fr/wp-content/uploads/2026/04/20260607-Les-cols-de-lespoir-@Dahu-Ariegeois.jpg
ORGANIZER;CN="Dahu ari%C3%A9geois":MAILTO:contact@dahu-ariegeois.fr
END:VEVENT
END:VCALENDAR