BEGIN:VCALENDAR
VERSION:2.0
PRODID:-//PNR - ECPv6.15.18//NONSGML v1.0//EN
CALSCALE:GREGORIAN
METHOD:PUBLISH
X-ORIGINAL-URL:https://www.parc-pyrenees-ariegeoises.fr
X-WR-CALDESC:Évènements pour PNR
REFRESH-INTERVAL;VALUE=DURATION:PT1H
X-Robots-Tag:noindex
X-PUBLISHED-TTL:PT1H
BEGIN:VTIMEZONE
TZID:Europe/Paris
BEGIN:DAYLIGHT
TZOFFSETFROM:+0100
TZOFFSETTO:+0200
TZNAME:CEST
DTSTART:20250330T010000
END:DAYLIGHT
BEGIN:STANDARD
TZOFFSETFROM:+0200
TZOFFSETTO:+0100
TZNAME:CET
DTSTART:20251026T010000
END:STANDARD
BEGIN:DAYLIGHT
TZOFFSETFROM:+0100
TZOFFSETTO:+0200
TZNAME:CEST
DTSTART:20260329T010000
END:DAYLIGHT
BEGIN:STANDARD
TZOFFSETFROM:+0200
TZOFFSETTO:+0100
TZNAME:CET
DTSTART:20261025T010000
END:STANDARD
BEGIN:DAYLIGHT
TZOFFSETFROM:+0100
TZOFFSETTO:+0200
TZNAME:CEST
DTSTART:20270328T010000
END:DAYLIGHT
BEGIN:STANDARD
TZOFFSETFROM:+0200
TZOFFSETTO:+0100
TZNAME:CET
DTSTART:20271031T010000
END:STANDARD
END:VTIMEZONE
BEGIN:VEVENT
DTSTART;TZID=Europe/Paris:20260614T140000
DTEND;TZID=Europe/Paris:20260614T140000
DTSTAMP:20260425T162705
CREATED:20260422T144327Z
LAST-MODIFIED:20260422T144327Z
UID:23435-1781445600-1781445600@www.parc-pyrenees-ariegeoises.fr
SUMMARY:Anoures\, mares et bottés
DESCRIPTION:Découverte ludique d’une mare toute jeune et d’une autre plus ancienne : faune\, flore\, biodiversité. \nSur réservation clement.c@ariegenature.fr 06 21 41 31 42 \nGratuit \n 
URL:https://www.parc-pyrenees-ariegeoises.fr/event/anoures-mares-et-bottes/
LOCATION:maison de la biodiversité\, 8 bis rue de rouzaud\, Cos\, Ariège\, 09000\, France
CATEGORIES:nature
ATTACH;FMTTYPE=image/jpeg:https://www.parc-pyrenees-ariegeoises.fr/wp-content/uploads/2026/04/20260614-Anoures-mares-et-bottes-@ANA-CEN-Ariege.jpg
ORGANIZER;CN="ANA- CEN":MAILTO:ana@ariegenature.fr
END:VEVENT
END:VCALENDAR