BEGIN:VCALENDAR
VERSION:2.0
PRODID:-//PNR - ECPv6.15.18//NONSGML v1.0//EN
CALSCALE:GREGORIAN
METHOD:PUBLISH
X-ORIGINAL-URL:https://www.parc-pyrenees-ariegeoises.fr
X-WR-CALDESC:Évènements pour PNR
REFRESH-INTERVAL;VALUE=DURATION:PT1H
X-Robots-Tag:noindex
X-PUBLISHED-TTL:PT1H
BEGIN:VTIMEZONE
TZID:Europe/Paris
BEGIN:DAYLIGHT
TZOFFSETFROM:+0100
TZOFFSETTO:+0200
TZNAME:CEST
DTSTART:20250330T010000
END:DAYLIGHT
BEGIN:STANDARD
TZOFFSETFROM:+0200
TZOFFSETTO:+0100
TZNAME:CET
DTSTART:20251026T010000
END:STANDARD
BEGIN:DAYLIGHT
TZOFFSETFROM:+0100
TZOFFSETTO:+0200
TZNAME:CEST
DTSTART:20260329T010000
END:DAYLIGHT
BEGIN:STANDARD
TZOFFSETFROM:+0200
TZOFFSETTO:+0100
TZNAME:CET
DTSTART:20261025T010000
END:STANDARD
BEGIN:DAYLIGHT
TZOFFSETFROM:+0100
TZOFFSETTO:+0200
TZNAME:CEST
DTSTART:20270328T010000
END:DAYLIGHT
BEGIN:STANDARD
TZOFFSETFROM:+0200
TZOFFSETTO:+0100
TZNAME:CET
DTSTART:20271031T010000
END:STANDARD
END:VTIMEZONE
BEGIN:VEVENT
DTSTART;TZID=Europe/Paris:20260508T210000
DTEND;TZID=Europe/Paris:20260508T210000
DTSTAMP:20260425T143712
CREATED:20260414T114933Z
LAST-MODIFIED:20260414T114933Z
UID:23264-1778274000-1778274000@www.parc-pyrenees-ariegeoises.fr
SUMMARY:Veillée aux étoiles à Balacet
DESCRIPTION:RDV à Balacet > camping le Pouech peinard  \nDécouverte du ciel et des constellations à l’œil nu et observation des merveilles du ciel de printemps à l’aide d’un télescope de 400 mm de diamètre. \nSur réservation 06 84 74 94 33 \nAutres dates : 13 juillet\, 16 août et 12 septembre
URL:https://www.parc-pyrenees-ariegeoises.fr/event/veillee-aux-etoiles-a-balacet/
LOCATION:camping le Pouech peinard\, Balacet\, 09350
CATEGORIES:atelier - conférence
ATTACH;FMTTYPE=image/jpeg:https://www.parc-pyrenees-ariegeoises.fr/wp-content/uploads/2026/04/20260508-Veillee-aux-etoiles-a-Balacet-@Nicolas-JONGIS.jpg
ORGANIZER;CN="D%C3%A9couvertes c%C3%A9lestes":MAILTO:info@decouvertescelestes.com.
END:VEVENT
END:VCALENDAR