BEGIN:VCALENDAR
VERSION:2.0
PRODID:-//PNR - ECPv6.15.18//NONSGML v1.0//EN
CALSCALE:GREGORIAN
METHOD:PUBLISH
X-ORIGINAL-URL:https://www.parc-pyrenees-ariegeoises.fr
X-WR-CALDESC:Évènements pour PNR
REFRESH-INTERVAL;VALUE=DURATION:PT1H
X-Robots-Tag:noindex
X-PUBLISHED-TTL:PT1H
BEGIN:VTIMEZONE
TZID:Europe/Paris
BEGIN:DAYLIGHT
TZOFFSETFROM:+0100
TZOFFSETTO:+0200
TZNAME:CEST
DTSTART:20200329T010000
END:DAYLIGHT
BEGIN:STANDARD
TZOFFSETFROM:+0200
TZOFFSETTO:+0100
TZNAME:CET
DTSTART:20201025T010000
END:STANDARD
BEGIN:DAYLIGHT
TZOFFSETFROM:+0100
TZOFFSETTO:+0200
TZNAME:CEST
DTSTART:20210328T010000
END:DAYLIGHT
BEGIN:STANDARD
TZOFFSETFROM:+0200
TZOFFSETTO:+0100
TZNAME:CET
DTSTART:20211031T010000
END:STANDARD
BEGIN:DAYLIGHT
TZOFFSETFROM:+0100
TZOFFSETTO:+0200
TZNAME:CEST
DTSTART:20220327T010000
END:DAYLIGHT
BEGIN:STANDARD
TZOFFSETFROM:+0200
TZOFFSETTO:+0100
TZNAME:CET
DTSTART:20221030T010000
END:STANDARD
BEGIN:DAYLIGHT
TZOFFSETFROM:+0100
TZOFFSETTO:+0200
TZNAME:CEST
DTSTART:20230326T010000
END:DAYLIGHT
BEGIN:STANDARD
TZOFFSETFROM:+0200
TZOFFSETTO:+0100
TZNAME:CET
DTSTART:20231029T010000
END:STANDARD
END:VTIMEZONE
BEGIN:VEVENT
DTSTART;TZID=Europe/Paris:20220618T203000
DTEND;TZID=Europe/Paris:20220618T220000
DTSTAMP:20260425T185958
CREATED:20220525T132628Z
LAST-MODIFIED:20220525T132628Z
UID:16187-1655584200-1655589600@www.parc-pyrenees-ariegeoises.fr
SUMMARY:Les nuits des forêts
DESCRIPTION:Après une journée de lectures sous les arbres\, de siestes musicales en forêt\, de conférences sur la forêt couseranaise et d’ateliers pour enfants\, l’association vous propose\, dans le cadre du festival national Les Nuits des forêts\, trois balades de 20h30 à 22h\, dans le méconnu bois de Cornecu : au choix\, une balade contée sur les femmes des Pyrénées et d’autres continents\, une balade de reconnaissance sonore au crépuscule pour évaluer l’impact de la pollution lumineuse sur la faune\, une balade d’observation des chauve-souris du village. \nLes trois groupes se rejoindront dans la clairière de Pouterolles pour assister à la performance de Maxence Camelin : appeaux\, cornemuse\, hautbois couseranais et chants résonneront dans la nuit\, à la lumière de torches et de bougies. Un moment magique pour redécouvrir la forêt la nuit ! \nCes trois activités font partie d’un programme plus large disponible sur le site de l’association\, du samedi 18 au dimanche 19 juin. Elles font partie de la programmation nationale des Nuits des forêts.Accessible à partir de 9 ans \nSur inscription : www.journees-sorcieres.fr/nuitsdesforets
URL:https://www.parc-pyrenees-ariegeoises.fr/event/les-nuits-des-forets-pnr-pa/
LOCATION:Bois de cornecu\, Saint-Lizier\, Ariège\, 09190\, France
CATEGORIES:atelier - conférence,culturel,Forêt,nature
ATTACH;FMTTYPE=image/jpeg:https://www.parc-pyrenees-ariegeoises.fr/wp-content/uploads/2022/05/Journees-soriceres.jpg
ORGANIZER;CN="Association Journ%C3%A9es sorci%C3%A8res":MAILTO:journees.sorcieres@gmail.com
END:VEVENT
BEGIN:VEVENT
DTSTART;TZID=Europe/Paris:20220611T220000
DTEND;TZID=Europe/Paris:20220612T003000
DTSTAMP:20260425T185958
CREATED:20220525T130948Z
LAST-MODIFIED:20220624T084523Z
UID:16179-1654984800-1654993800@www.parc-pyrenees-ariegeoises.fr
SUMMARY:Observation astronomique
DESCRIPTION:Soirée d’observation des nébuleuses et galaxies au télescope de 360mm de diamètre. \nPayant : adultes 20 euros / enfants 10 euros \nAccessible à partir de 10 ans \nSur inscription philastro09@orange.fr / 06 89 62 74 83 \nAutres dates prévues : 23-27-30 juillet et 3-6-7 août \nTéléchargez le programme “cultivez la nuit dans les Pyrénées ariégeoises”
URL:https://www.parc-pyrenees-ariegeoises.fr/event/observation-astronomique-pnr-pa-2/
LOCATION:Port de Lers\, latitude 42.8076°\, longitude 1.3778\, 09320\, France
CATEGORIES:nature
ATTACH;FMTTYPE=image/jpeg:https://www.parc-pyrenees-ariegeoises.fr/wp-content/uploads/2022/05/Observations-astronomiques_juinjuilletaoutseptembre_arborescence_@Philippe-Tosi.jpg
ORGANIZER;CN="Arborescence":MAILTO:arborescence-mediation@mail.fr
END:VEVENT
BEGIN:VEVENT
DTSTART;TZID=Europe/Paris:20220611T100000
DTEND;TZID=Europe/Paris:20220611T120000
DTSTAMP:20260425T185958
CREATED:20220525T130503Z
LAST-MODIFIED:20220624T081015Z
UID:16175-1654941600-1654948800@www.parc-pyrenees-ariegeoises.fr
SUMMARY:Observation solaire
DESCRIPTION:Matinée d’observation des protubérances solaires avec une lunette de 204 mm de diamètre dédiée munie d’un filtre spécial H-alpha.  \nObservation en fonction de la météo. \nAccessible à partir de 10 ans \nSur inscription  : philastro09@orange.fr / 06 89 62 74 83 \nAutres dates prévues : 23-27-30 juillet et 3-6-7 août \n Téléchargez le programme “Cultivez la nuit dans les Pyrénées ariégeoises”
URL:https://www.parc-pyrenees-ariegeoises.fr/event/observation-solaire-pnr-pa-2/
LOCATION:Halle de vicdessos\, Val de Sos\, Ariège\, 09220\, France
CATEGORIES:nature
ATTACH;FMTTYPE=image/jpeg:https://www.parc-pyrenees-ariegeoises.fr/wp-content/uploads/2022/05/Observation-solaire_maijuinjuilletaoutseptembre_arborescence_@philippe-Tosi.jpg
ORGANIZER;CN="Arborescence":MAILTO:arborescence-mediation@mail.fr
END:VEVENT
BEGIN:VEVENT
DTSTART;TZID=Europe/Paris:20220528T200000
DTEND;TZID=Europe/Paris:20220529T000000
DTSTAMP:20260425T185958
CREATED:20220429T064935Z
LAST-MODIFIED:20220429T064935Z
UID:16052-1653768000-1653782400@www.parc-pyrenees-ariegeoises.fr
SUMMARY:Photographier la nuit
DESCRIPTION:Les PyRAWnéens\, association de photographes\, vous propose de découvrir la nuit à travers VOTRE objectif. \nVenez repérer les astres et les photographier. Apprenez à vous servir de votre appareil photo\, en amenant votre trépied et votre appareil\, capable de choses que vous n’imaginez peut être pas. \nLes étoiles et la nuit sont une source d’inspiration sans fin et nous sommes dans une région ou la pollution lumineuse est peu présente\, cependant nous composerons avec la présence de l’homme. Un moment de partage sous les cieux afin d’admirer la voute céleste. (Pour assurer un encadrement de qualité nous limitons les inscriptions à 15 personnes). \nPayant : Adultes 30€\, moins de 12 ans 15€\nAccessible à partir de 10 ans.\nSur inscription\, réservation obligatoire : pyrawneens3@gmail.com
URL:https://www.parc-pyrenees-ariegeoises.fr/event/photographier-la-nuit-pnr-pa/
LOCATION:Col de belein\, Montegut en Couserans\, 09200
CATEGORIES:atelier - conférence,nature
END:VEVENT
BEGIN:VEVENT
DTSTART;TZID=Europe/Paris:20220507T220000
DTEND;TZID=Europe/Paris:20220508T003000
DTSTAMP:20260425T185958
CREATED:20220429T063921Z
LAST-MODIFIED:20220429T065043Z
UID:16050-1651960800-1651969800@www.parc-pyrenees-ariegeoises.fr
SUMMARY:Observation astronomique
DESCRIPTION:Venez observez les nébuleuses et les galaxies au télescope de 360mm de diamètre\, au Port de Lers\, lors d’une soirée tout près des étoiles !\nArborescence\nPayant : adultes 20 euros / enfants 10 euros\nNe convient pas aux enfants de moins de 10 ans\nSur inscription philastro09@orange.fr / 06 89 62 74 83
URL:https://www.parc-pyrenees-ariegeoises.fr/event/observation-astronomique-pnr-pa/
LOCATION:Port de Lers\, latitude 42.8076°\, longitude 1.3778\, 09320\, France
CATEGORIES:atelier - conférence,montagne,nature
ATTACH;FMTTYPE=image/jpeg:https://www.parc-pyrenees-ariegeoises.fr/wp-content/uploads/2021/01/Maspeyre-M8-NCbuleuse-lagune-scaled.jpg
END:VEVENT
BEGIN:VEVENT
DTSTART;TZID=Europe/Paris:20211209T093000
DTEND;TZID=Europe/Paris:20211209T173000
DTSTAMP:20260425T185958
CREATED:20211115T155638Z
LAST-MODIFIED:20211115T155638Z
UID:15397-1639042200-1639071000@www.parc-pyrenees-ariegeoises.fr
SUMMARY:Journée régionale Trame Noire
DESCRIPTION:Aujourd’hui nous savons que la pollution lumineuse impacte l’ensemble des êtres vivants et notre vision du ciel étoilé. \n Elle contribue à la fragmentation des habitats des espèces et impacte ainsi leur cycle de vie. Le concept de Trame Noire vise à prendre en compte les besoins d’obscurité de la biodiversité afin de rétablir les continuités écologiques nocturnes indispensables au bon fonctionnement des écosystèmes et au maintien de notre santé\nL’objectif de cette journée est de porter à connaissance le concept de la Trame Noire\, d’animer de nombreux échanges entre les intervenant.es et les participant.es et de donner les outils nécessaires aux décideurs locaux pour l’émergence de projets en faveur de la réduction de la pollution lumineuse afin de rétablir une Trame Noire fonctionnelle en Occitanie. \nLe Parc naturel régional des Pyrénées Ariégeoises sera présent activement dans la présentation de la Stratégie de lutte contre la pollution lumineuse et la préservation de la ressource nocturne adoptée par les élus.  \nCette journée s’inscrit dans la continuité du diagnostic réalisé par la Région Occitanie via la cartographie de la pollution lumineuse. \nInscrivez-vous ici : https://framaforms.org/recevoir-linscription-pour-la-journee-regionale-sur-la-trame-noire-en-occitanie-1635880009  \nProgramme prévisionnel  de la journée : \n9h30-10h00 Accueil des participant.es \n10h00-10h15 Introduction    \n10h15-11h00 Conférence sur le concept de Trame Noire animée par Romain Sordello\, UMS Patri’Nat \n11h15-12h45 Ateliers thématiques en groupes \n12h45-14h Pause déjeuner* \n14h-15h00 Conférence sur les solutions de mise en place de la Trame Noire animée par Romain Sordello suivie d’une présentation sur l’intégration de la Trame Noire dans les documents d’urbanisme \n15h00-15h30 Présentation de l’étude cartographique de la pollution lumineuse en Occitanie par Sébastien Guibert\, Région Occitanie \n15h45-17h15 Ateliers thématiques en groupes \n17h15-17h30 Conclusion de la journée par Clémentine Gand\, Nature En Occitanie et Elliot Shaw\, FNE Midi-Pyrénées \n>> Pass sanitaire obligatoire.\n* Repas sur place sur réservation. Prise en charge par les participants
URL:https://www.parc-pyrenees-ariegeoises.fr/event/journee-regionale-trame-noire-pnr-pa/
LOCATION:Halle centrale\, D72A\, Villefranche de Lauragais\, 31290\, France
CATEGORIES:atelier - conférence
ATTACH;FMTTYPE=image/png:https://www.parc-pyrenees-ariegeoises.fr/wp-content/uploads/2021/11/journee-TN.png
END:VEVENT
END:VCALENDAR